BEGIN:VCALENDAR
VERSION:2.0
PRODID:-//Sanchez, Tennis &amp; Associates, LLC - ECPv6.15.12.2//NONSGML v1.0//EN
CALSCALE:GREGORIAN
METHOD:PUBLISH
X-ORIGINAL-URL:https://sancheztennis.com
X-WR-CALDESC:Events for Sanchez, Tennis &amp; Associates, LLC
REFRESH-INTERVAL;VALUE=DURATION:PT1H
X-Robots-Tag:noindex
X-PUBLISHED-TTL:PT1H
BEGIN:VTIMEZONE
TZID:America/New_York
BEGIN:DAYLIGHT
TZOFFSETFROM:-0500
TZOFFSETTO:-0400
TZNAME:EDT
DTSTART:20150308T070000
END:DAYLIGHT
BEGIN:STANDARD
TZOFFSETFROM:-0400
TZOFFSETTO:-0500
TZNAME:EST
DTSTART:20151101T060000
END:STANDARD
BEGIN:DAYLIGHT
TZOFFSETFROM:-0500
TZOFFSETTO:-0400
TZNAME:EDT
DTSTART:20160313T070000
END:DAYLIGHT
BEGIN:STANDARD
TZOFFSETFROM:-0400
TZOFFSETTO:-0500
TZNAME:EST
DTSTART:20161106T060000
END:STANDARD
BEGIN:DAYLIGHT
TZOFFSETFROM:-0500
TZOFFSETTO:-0400
TZNAME:EDT
DTSTART:20170312T070000
END:DAYLIGHT
BEGIN:STANDARD
TZOFFSETFROM:-0400
TZOFFSETTO:-0500
TZNAME:EST
DTSTART:20171105T060000
END:STANDARD
BEGIN:DAYLIGHT
TZOFFSETFROM:-0500
TZOFFSETTO:-0400
TZNAME:EDT
DTSTART:20180311T070000
END:DAYLIGHT
BEGIN:STANDARD
TZOFFSETFROM:-0400
TZOFFSETTO:-0500
TZNAME:EST
DTSTART:20181104T060000
END:STANDARD
BEGIN:DAYLIGHT
TZOFFSETFROM:-0500
TZOFFSETTO:-0400
TZNAME:EDT
DTSTART:20190310T070000
END:DAYLIGHT
BEGIN:STANDARD
TZOFFSETFROM:-0400
TZOFFSETTO:-0500
TZNAME:EST
DTSTART:20191103T060000
END:STANDARD
BEGIN:DAYLIGHT
TZOFFSETFROM:-0500
TZOFFSETTO:-0400
TZNAME:EDT
DTSTART:20200308T070000
END:DAYLIGHT
BEGIN:STANDARD
TZOFFSETFROM:-0400
TZOFFSETTO:-0500
TZNAME:EST
DTSTART:20201101T060000
END:STANDARD
BEGIN:DAYLIGHT
TZOFFSETFROM:-0500
TZOFFSETTO:-0400
TZNAME:EDT
DTSTART:20210314T070000
END:DAYLIGHT
BEGIN:STANDARD
TZOFFSETFROM:-0400
TZOFFSETTO:-0500
TZNAME:EST
DTSTART:20211107T060000
END:STANDARD
END:VTIMEZONE
BEGIN:VTIMEZONE
TZID:America/Los_Angeles
BEGIN:DAYLIGHT
TZOFFSETFROM:-0800
TZOFFSETTO:-0700
TZNAME:PDT
DTSTART:20180311T100000
END:DAYLIGHT
BEGIN:STANDARD
TZOFFSETFROM:-0700
TZOFFSETTO:-0800
TZNAME:PST
DTSTART:20181104T090000
END:STANDARD
BEGIN:DAYLIGHT
TZOFFSETFROM:-0800
TZOFFSETTO:-0700
TZNAME:PDT
DTSTART:20190310T100000
END:DAYLIGHT
BEGIN:STANDARD
TZOFFSETFROM:-0700
TZOFFSETTO:-0800
TZNAME:PST
DTSTART:20191103T090000
END:STANDARD
BEGIN:DAYLIGHT
TZOFFSETFROM:-0800
TZOFFSETTO:-0700
TZNAME:PDT
DTSTART:20200308T100000
END:DAYLIGHT
BEGIN:STANDARD
TZOFFSETFROM:-0700
TZOFFSETTO:-0800
TZNAME:PST
DTSTART:20201101T090000
END:STANDARD
END:VTIMEZONE
BEGIN:VTIMEZONE
TZID:America/Denver
BEGIN:DAYLIGHT
TZOFFSETFROM:-0700
TZOFFSETTO:-0600
TZNAME:MDT
DTSTART:20160313T090000
END:DAYLIGHT
BEGIN:STANDARD
TZOFFSETFROM:-0600
TZOFFSETTO:-0700
TZNAME:MST
DTSTART:20161106T080000
END:STANDARD
BEGIN:DAYLIGHT
TZOFFSETFROM:-0700
TZOFFSETTO:-0600
TZNAME:MDT
DTSTART:20170312T090000
END:DAYLIGHT
BEGIN:STANDARD
TZOFFSETFROM:-0600
TZOFFSETTO:-0700
TZNAME:MST
DTSTART:20171105T080000
END:STANDARD
BEGIN:DAYLIGHT
TZOFFSETFROM:-0700
TZOFFSETTO:-0600
TZNAME:MDT
DTSTART:20180311T090000
END:DAYLIGHT
BEGIN:STANDARD
TZOFFSETFROM:-0600
TZOFFSETTO:-0700
TZNAME:MST
DTSTART:20181104T080000
END:STANDARD
END:VTIMEZONE
BEGIN:VEVENT
DTSTART;TZID=America/New_York:20200306T080000
DTEND;TZID=America/New_York:20200306T170000
DTSTAMP:20260420T045535
CREATED:20200306T230909Z
LAST-MODIFIED:20200306T230909Z
UID:12571-1583481600-1583514000@sancheztennis.com
SUMMARY:
DESCRIPTION:Unconscious Bias Training That Actually Makes a Difference \n \n  \nUnconscious bias training is rapidly finding a place in training menus across the country and beyond.  The reasoning behind this trend is perfectly sound\, grounded in a commitment to foster workplace environments that succeed in efforts to embrace the advantages of workforce diversity\, including fostering increased creativity\, improving decision-making\, enhancing teamwork\, achieving exemplary customer service and community relations\, with improved financial performance.  However\, as we shall see\, this training all too often falls far short of its potential as an organizational intervention. \nWhy Unconscious Bias Training? \nWhat is the purpose of unconscious bias training? We’ve come to understand that humans are enormously subject to unconscious bias in our thinking\, attitudes\, and resulting behaviors.  With the human brain encountering as much as 11 million bits of data per second\, we reflexively rely on enormous data reduction and simplification tricks to simply function\, moment to moment.  Sounds good\, except\, it turns out the non-conscious mental shortcuts we end up using in problem-solving and decision-making (often called heuristics) are greatly subject to bias\, influenced by the worldview we are exposed to in our environment.  The attitudes\, beliefs and storylines transmitted to us by family\, schools\, community\, and media provide a template that we naturally employ in making sense of what we encounter in the world. \nThose mental frameworks are socially inherited from prior generations\, including the fears and biases about others that were prevalent in the past and are tied to the neurophysiological programming of our earliest species survival models.  Thus\, we inherit data processing algorithms that are centuries\, even millennia out of date.  It is no wonder\, then\, that we are apt to make split-second negative judgements about people who are different from us\, without ever consciously considering our response or how we came to that conclusion.  This is unconscious bias in action\, and it interferes directly with our interpersonal\, leadership and organizational competence. \nWhy Does It Fall Short? \nFaced with limited success in efforts to foster a successfully inclusive environment\, many organizations have identified unconscious bias as a critical obstacle to successfully employing\, retaining and utilizing a diverse workforce.  Trainings have rolled out that identify the mental processes underlying unconscious bias\, how it shows up\, the business and human impacts\, and sources of attitudes that affect our judgements about others.  In addition\, this training often leads participants in self-examination of the biases they may hold and the behaviors\, from micro-aggressions to adverse employment decisions\, that can ensue.   And then participants are sent back to work with advice on what not to do as a result of their bias – a sort of aversive model that can have unintended consequences\, such as leading people to avoid having interactions with colleagues\, so as to avoid making a mistake. \nUnfortunately\, we now know when we simply add conscious awareness of our bias to an existing base of unconscious attitudes\, we can exacerbate the negative behavior we are aiming to reduce\, particularly when we are activated to avoid doing the wrong thing.   It turns out that\, when we don’t provide a set of strategies or practices that can be employed by individuals to intentionally overwrite the biased mental frames they are carrying\, bias can\, in fact\, worsen. \n Unconscious Bias Training as Skill-Building \nIt is possible\, however\, to provide robust tools for reasserting control over our thinking and making active choices about what we allow to influence our attitudes\, behaviors\, and decisions.  Building on the same training platform\, we can go beyond basic understanding of unconscious bias to provide very accessible personal practices that have demonstrated powerful bias-reduction and that stimulate inclusive behaviors and attitudes.  In the training space\, these exercises translate into easily learned and practiced skills for enhanced self-awareness\, for noting how bias intercedes in our thinking\, and for building alternative storylines that first counteract\, then overwrite the negative interpretations embedded in the bias. \nStrategies that serve this purpose engage us in building a set of habits that help old biases fade and foster new\, positive beliefs and attitudes.  These exercises undertake activities such as stereotype replacement\, perspective-taking\, courageous conversations\, micro-affirmations\, goals setting\, and more.  Rather than focusing on aversion to bad behavior\, all of these tactics are oriented toward increasing for clear thinking about our own mental processes\, explicitly recognizing our capacity for personal and professional growth and committed action.   With practice\, these skills can become second nature\, a continuous\, self-enhancing process that includes: \n\nrecognizing bias in our thoughts\,\nconsidering where the bias came from\,\nexamining data that contradicts those negative stories\,\ndeepening our insight and empathy for the experiences and challenges of others\,\nengaging in honest\, open-ended exploration of colleagues’ experiences\,\nbuilding new internal narratives based on attention to strengths and contributions\, and\nsetting goals for our own learning and inclusive behavior\, tied to proactive changes in the workplace environment.\n\nThese are the goals of the most effective and impactful unconscious bias training\, invigorating participants’ sense of positive possibilities and self-empowered learning in service to the organization’s vision of a truly inclusive workplace that brings out the best of every employee. \nLeveraging for Culture Change \nOne further thought. Naturally\, the highest return on this investment occurs when cohorts undertake this proactive learning together.  Because the model is non-judgmental\, yet focused on action-oriented personal\, professional\, and team development\, colleagues can enroll to help each other continue the journey of self-discovery in an atmosphere of cooperative learning tied to motivation for positive results.  This\, in turn\, enhances individual and group emotional intelligence\, generates a new shared language for naming and depowering bias.  This fosters supportive accountability for inclusiveness and stimulates a collective commitment to examining and evolving work practices that rise above the bias of the past. \nThis is the good news.  Rather than “flavor of the week”\, unconscious bias training can really work.  When focused on skills of rewriting mental scripts and growing new personal and professional competence\, unconscious bias training can be a potent cornerstone of leadership development and organizational culture change. \nChristopher (Kit) Tennis\, Ph.D. & Anita L. Sanchez\, Ph.D.
URL:https://sancheztennis.com/event/12571/
END:VEVENT
BEGIN:VEVENT
DTSTART;TZID=America/Los_Angeles:20191204T080000
DTEND;TZID=America/Los_Angeles:20191208T170000
DTSTAMP:20260420T045535
CREATED:20191120T224325Z
LAST-MODIFIED:20191120T224510Z
UID:12552-1575446400-1575824400@sancheztennis.com
SUMMARY:NAIS People of Color Conference
DESCRIPTION:Each year\, the National Association of Independent Schools presents a conference designed to provide a safe space for leadership and professional development and networking for people of color and allies of all backgrounds in independent schools.  Anita Sanchez and Kit Tennis design a set of affinity group experiences for all 6000 adult participants\, training 70 teaching professionals for leading and hosting those sessions.
URL:https://sancheztennis.com/event/nais-people-of-color-conference/
LOCATION:Washington State Convention Center\, Seattle\, WA\, United States
END:VEVENT
BEGIN:VEVENT
DTSTART;TZID=America/New_York:20171201T090000
DTEND;TZID=America/New_York:20171201T110000
DTSTAMP:20260420T045535
CREATED:20180225T073700Z
LAST-MODIFIED:20180225T080128Z
UID:12306-1512118800-1512126000@sancheztennis.com
SUMMARY:Keynote for 6000 at National Association of Independent Schools People of Color Conference
DESCRIPTION:  \nAnita  received a long\, standing ovation after sharing The Four Sacred Gifts and treasures of indigenous wisdom for 6000 adminstrators\, faculty and students at the 30th Annual People of Color Conference at the Anaheim Convention Center. In addition\, 80 schools around the world live-streamed her keynote address.  Afterwards\, several hundred of the audience lined up for Anita’s signature on their copy of The Four Sacred Gifts: Indigenous Wisdom for Modern Times\, with many heartfelt thanks for “a life-changing experience”.
URL:https://sancheztennis.com/event/keynote-for-6000-at-national-association-of-independent-schools-people-of-color-conference/
LOCATION:Anaheim Convention Center\, Anaheim\, CA\, United States
END:VEVENT
BEGIN:VEVENT
DTSTART;TZID=America/Denver:20170203T181000
DTEND;TZID=America/Denver:20170203T193000
DTSTAMP:20260420T045535
CREATED:20170201T014327Z
LAST-MODIFIED:20170201T020703Z
UID:12137-1486145400-1486150200@sancheztennis.com
SUMMARY:MULTICULTURAL WOMEN EXPLORE ECOLOGICAL AND SOCIAL HEALING   Bioneers Conference- Boulder\, Colorado
DESCRIPTION:Three of the diverse contributors to the new anthology\, Ecological and Social Healing: Multicultural Women’s Voices\, explore how being situated between ecological and social justice movements has opened them up to new understandings and new ways of teaching and leading. They will share “re-storying” narratives that cross boundaries of place\, history\, trauma and worldview to trigger compassion and healing. With Jeanine Canty\, Professor and Chair of Environmental Studies\, Naropa University; Nina Simons\, Bioneers co-founder\, founding Director of Everywoman’s Leadership program; and Anita Sanchez\, Transformational Leadership Council. The panel dialogue will be followed by a book signing. \nFor event info\, visit: http://www.colorado.edu/ecenter/bioneers/information
URL:https://sancheztennis.com/event/bioneers-conference-boulder-colorado-february-3-2017-610-p-m-730-p-m/
LOCATION:Sustainability\, Energy and Environment Complex (SEEC) at CU-Boulder\, 4001 Discovery Drive\, Boulder\, CO\, United States
END:VEVENT
BEGIN:VEVENT
DTSTART;TZID=America/New_York:20170202T193000
DTEND;TZID=America/New_York:20170202T203000
DTSTAMP:20260420T045535
CREATED:20170201T014848Z
LAST-MODIFIED:20170201T020218Z
UID:12143-1486063800-1486067400@sancheztennis.com
SUMMARY:“Ecological and Social Healing”   Book talk and signing at Boulder Bookstore
DESCRIPTION:Jeanine Canty\, Nina Simons\, and Anita Sanchez will speak about and sign their new book\, Ecological and Social Healing \nAbout the Book:\nEcological and Social Healing is an edited collection of essays by fourteen multicultural women who are doing work that crosses the boundaries of ecological and social healing. The contributors express a myriad of ways that the relationship between the ecological and social have brought new understanding to their experiences and work. Moreover by working with these edges of awareness\, they are identifying new forms of teaching\, leading\, healing and positive change.
URL:https://sancheztennis.com/event/ecological-and-social-healing-at-boulder-bookstore-february-2nd/
LOCATION:Boulder Bookstore\, 1107 Pearl Street\, Boulder\, CO\, United States
END:VEVENT
BEGIN:VEVENT
DTSTART;TZID=America/New_York:20161105T090000
DTEND;TZID=America/New_York:20161105T150000
DTSTAMP:20260420T045535
CREATED:20161222T215715Z
LAST-MODIFIED:20161222T221541Z
UID:216-1478336400-1478358000@sancheztennis.com
SUMMARY:TEDx Manhattan Beach
DESCRIPTION:Watch “Humanity’s hope: connecting people\, earth\, and spirit”\n \nTEDx Gallery\n\n		\n		\n			\n				\n			\n			\n		\n\nWhat is TEDx?\nTEDxManhattanBeach is more than just an annual event. It is part of an international phenomenon. Thousands of people from around the world have attended their locally organized TEDx event. From big-city universities in the US to out-of-the-way villages in Africa\, people have come together to hear “ideas worth sharing”. This is your chance to join that world-wide movement. Join us at our event. \nWhy You Should Attend\nFeed Your Mind\nHear what innovative thinkers are doing! \nDiscuss Big Ideas\nImagine being able to discuss what you just learned with your friends and neighbors… \nMeet the Best & Brightest in Manhattan Beach\nMingle with hundreds of the smartest folks in the Southern California!
URL:https://sancheztennis.com/event/tedx-manhattan-beach/
CATEGORIES:Featured
ATTACH;FMTTYPE=image/png:https://sancheztennis.com/wp-content/uploads/2016/12/ted2.png
END:VEVENT
BEGIN:VEVENT
DTSTART;TZID=America/New_York:20161022T144500
DTEND;TZID=America/New_York:20161022T161500
DTSTAMP:20260420T045535
CREATED:20161222T223511Z
LAST-MODIFIED:20161222T223538Z
UID:228-1477147500-1477152900@sancheztennis.com
SUMMARY:Bioneers Conference
DESCRIPTION:Mission\nBioneers is a fertile hub of social and scientific innovators with practical and visionary solutions for the world’s most pressing environmental and social challenges. \nA New Word\nFounder Kenny Ausubel coined the term Bioneers in 1990 to describe an emerging culture. Bioneers are social and scientific innovators from all walks of life and disciplines who have peered deep into the heart of living systems to understand how nature operates\, and to mimic “nature’s operating instructions” to serve human ends without harming the web of life. Nature’s principles—kinship\, cooperation\, diversity\, symbiosis and cycles of continuous creation absent of waste—can also serve as metaphoric guideposts for organizing an equitable\, compassionate and democratic society. \nA Leading Source of Innovative Solutions\nAs a 501c3 nonprofit organization\, we provide a forum and social hub for education about solutions presented through the Bioneers Conference and our programs. Our media productions leverage this content to reach millions of people around the nation and the world with our award-winning radio series\, Bioneers: Revolution From the Heart of Nature; anthology book series; television programs; and our interactive website. We act as a key source for the media\, including third-party films and the press. Our DVDs\, CDs and other educational materials are also used by colleges and schools and by community-based and other organizations to inform and inspire positive change at the local level. \nAn Annual Conference\nThe Bioneers Conference is a leading-edge forum where you can see tomorrow today: a future environment of hope. Social and scientific innovators focus on breakthrough solutions inspired by nature and human ingenuity.  These visionaries are already creating the healthy\, diverse\, equitable and beautiful world we want to live in—our legacy for future generations and the web of life on which our lives depend. You can connect with hundreds or  thousands of engaged folks making a real difference. \nIn 2008\, more than 12\,000 people attended our main Bioneers Conference in San Rafael\, California and 18 local Beaming Bioneers satellite conferences across the country. Bioneers fosters connection\, cross-pollination and  collaboration by bringing together diverse people and projects. We link strategic networks at the local\, regional\, national and international levels. \nA Systemic Framework\nThe bioneers are engaged citizens from all backgrounds and fields who focus on solving our world’s most urgent problems within a framework of interdependence: It’s all connected. Just as the web of life is intricately interconnected\, so too are all environmental and social issues. We take a “solve-the-whole-problem” approach that is holistic\, systemic and multidisciplinary. \nA Network of Networks\nBioneers fosters connection\, cross-pollination and collaboration by bringing together diverse people and projects within a broadly progressive framework. We connect people with solutions and grow social capital for positive change by linking strategic networks on the local\, regional\, national and international levels. \nA Catalyst for Restoration\nSustainability is the dynamic midpoint between perpetual natural cycles of destruction and restoration. In this severely damaged and depleted world\, we need to tip the scales toward restoration\, regeneration and resilience to sustain the web of life for future generations. \nAn Oasis of Hope\nAs a celebration of the dazzling genius of people and nature\, Bioneers helps spark mass creativity and engagement. As author and social entrepreneur Paul Hawken said\, “Bioneers is central to the re-imagination of what it means to be human.”
URL:https://sancheztennis.com/event/bioneers-conference/
CATEGORIES:Featured
ATTACH;FMTTYPE=image/png:https://sancheztennis.com/wp-content/uploads/2016/12/bioneers.png
END:VEVENT
END:VCALENDAR